BEGIN:VCALENDAR
VERSION:2.0
PRODID:-//Creative Washtenaw - ECPv6.15.18//NONSGML v1.0//EN
CALSCALE:GREGORIAN
METHOD:PUBLISH
X-WR-CALNAME:Creative Washtenaw
X-ORIGINAL-URL:https://creativewashtenaw.org
X-WR-CALDESC:Events for Creative Washtenaw
REFRESH-INTERVAL;VALUE=DURATION:PT1H
X-Robots-Tag:noindex
X-PUBLISHED-TTL:PT1H
BEGIN:VTIMEZONE
TZID:America/Detroit
BEGIN:DAYLIGHT
TZOFFSETFROM:-0500
TZOFFSETTO:-0400
TZNAME:EDT
DTSTART:20240310T070000
END:DAYLIGHT
BEGIN:STANDARD
TZOFFSETFROM:-0400
TZOFFSETTO:-0500
TZNAME:EST
DTSTART:20241103T060000
END:STANDARD
BEGIN:DAYLIGHT
TZOFFSETFROM:-0500
TZOFFSETTO:-0400
TZNAME:EDT
DTSTART:20250309T070000
END:DAYLIGHT
BEGIN:STANDARD
TZOFFSETFROM:-0400
TZOFFSETTO:-0500
TZNAME:EST
DTSTART:20251102T060000
END:STANDARD
BEGIN:DAYLIGHT
TZOFFSETFROM:-0500
TZOFFSETTO:-0400
TZNAME:EDT
DTSTART:20260308T070000
END:DAYLIGHT
BEGIN:STANDARD
TZOFFSETFROM:-0400
TZOFFSETTO:-0500
TZNAME:EST
DTSTART:20261101T060000
END:STANDARD
END:VTIMEZONE
BEGIN:VEVENT
DTSTART;TZID=America/Detroit:20250128T180000
DTEND;TZID=America/Detroit:20250128T200000
DTSTAMP:20260423T233857
CREATED:20250128T222052Z
LAST-MODIFIED:20250128T222052Z
UID:17424-1738087200-1738094400@creativewashtenaw.org
SUMMARY:Neurodiverse Artmaking Drop-in Workshop
DESCRIPTION:Join us from 6-8pm on Monday\, January 28th for a new- year’s edition of the Neurodiverse Artmaking Drop-in! Gather with your local neurodiverse community and get creative. There will be be a provided project\, and general crafting materials will also be available. Optional: Feel free to bring snacks to share with a labeled ingredient list. Hot and cold beverages provided! \nNeurodiverse Artmaking Drop-in meets every fourth Monday of the month\, 6-8pm\, Top Floor-Room B at Riverside Arts Center.
URL:https://creativewashtenaw.org/event/riverside-neuro-drop-in/
LOCATION:Riverside Arts Center\, 76 N. Huron Street\, Ypsilanti\, MI\, 48197\, United States
CATEGORIES:Exhibit
ATTACH;FMTTYPE=image/jpeg:https://creativewashtenaw.org/wp-content/uploads/2025/01/RiversideLogo.jpg
END:VEVENT
END:VCALENDAR