BEGIN:VCALENDAR
VERSION:2.0
PRODID:-//Creative Washtenaw - ECPv6.15.18//NONSGML v1.0//EN
CALSCALE:GREGORIAN
METHOD:PUBLISH
X-WR-CALNAME:Creative Washtenaw
X-ORIGINAL-URL:https://creativewashtenaw.org
X-WR-CALDESC:Events for Creative Washtenaw
REFRESH-INTERVAL;VALUE=DURATION:PT1H
X-Robots-Tag:noindex
X-PUBLISHED-TTL:PT1H
BEGIN:VTIMEZONE
TZID:America/Detroit
BEGIN:DAYLIGHT
TZOFFSETFROM:-0500
TZOFFSETTO:-0400
TZNAME:EDT
DTSTART:20240310T070000
END:DAYLIGHT
BEGIN:STANDARD
TZOFFSETFROM:-0400
TZOFFSETTO:-0500
TZNAME:EST
DTSTART:20241103T060000
END:STANDARD
BEGIN:DAYLIGHT
TZOFFSETFROM:-0500
TZOFFSETTO:-0400
TZNAME:EDT
DTSTART:20250309T070000
END:DAYLIGHT
BEGIN:STANDARD
TZOFFSETFROM:-0400
TZOFFSETTO:-0500
TZNAME:EST
DTSTART:20251102T060000
END:STANDARD
BEGIN:DAYLIGHT
TZOFFSETFROM:-0500
TZOFFSETTO:-0400
TZNAME:EDT
DTSTART:20260308T070000
END:DAYLIGHT
BEGIN:STANDARD
TZOFFSETFROM:-0400
TZOFFSETTO:-0500
TZNAME:EST
DTSTART:20261101T060000
END:STANDARD
END:VTIMEZONE
BEGIN:VEVENT
DTSTART;TZID=America/Detroit:20250625T163000
DTEND;TZID=America/Detroit:20250625T180000
DTSTAMP:20260423T162858
CREATED:20250211T171509Z
LAST-MODIFIED:20250211T171509Z
UID:17639-1750869000-1750874400@creativewashtenaw.org
SUMMARY:CW Happy Hour
DESCRIPTION:Join us for mingling and light fare at our monthly Creative Washtenaw Happy Hour!\nWhether you’re an active member or thinking about joining Creative Washtenaw\, we’d love to connect with you!\nCreative Washtenaw Happy Hour is held on the last Wednesday of every month from 4:30 – 6:00 pm at varying locations throughout Washtenaw County.\nPlease RSVP at least 24 hours prior to the event.
URL:https://creativewashtenaw.org/event/cw-happy-hour-5/
LOCATION:TBD\, MI\, United States
CATEGORIES:CW Happy Hour,Happy Hour
END:VEVENT
BEGIN:VEVENT
DTSTART;TZID=America/Detroit:20250528T163000
DTEND;TZID=America/Detroit:20250528T180000
DTSTAMP:20260423T162858
CREATED:20250211T171509Z
LAST-MODIFIED:20250211T171509Z
UID:17638-1748449800-1748455200@creativewashtenaw.org
SUMMARY:CW Happy Hour
DESCRIPTION:Join us for mingling and light fare at our monthly Creative Washtenaw Happy Hour!\nWhether you’re an active member or thinking about joining Creative Washtenaw\, we’d love to connect with you!\nCreative Washtenaw Happy Hour is held on the last Wednesday of every month from 4:30 – 6:00 pm at varying locations throughout Washtenaw County.\nPlease RSVP at least 24 hours prior to the event.
URL:https://creativewashtenaw.org/event/cw-happy-hour-4/
LOCATION:TBD\, MI\, United States
CATEGORIES:CW Happy Hour,Happy Hour
END:VEVENT
BEGIN:VEVENT
DTSTART;TZID=America/Detroit:20250430T163000
DTEND;TZID=America/Detroit:20250430T180000
DTSTAMP:20260423T162858
CREATED:20250211T171508Z
LAST-MODIFIED:20250211T171508Z
UID:17637-1746030600-1746036000@creativewashtenaw.org
SUMMARY:CW Happy Hour
DESCRIPTION:Join us for mingling and light fare at our monthly Creative Washtenaw Happy Hour!\nWhether you’re an active member or thinking about joining Creative Washtenaw\, we’d love to connect with you!\nCreative Washtenaw Happy Hour is held on the last Wednesday of every month from 4:30 – 6:00 pm at varying locations throughout Washtenaw County.\nPlease RSVP at least 24 hours prior to the event.
URL:https://creativewashtenaw.org/event/cw-happy-hour-3/
LOCATION:TBD\, MI\, United States
CATEGORIES:CW Happy Hour,Happy Hour
END:VEVENT
BEGIN:VEVENT
DTSTART;VALUE=DATE:20250411
DTEND;VALUE=DATE:20250512
DTSTAMP:20260423T162858
CREATED:20250312T192448Z
LAST-MODIFIED:20250312T192448Z
UID:17907-1744329600-1747007999@creativewashtenaw.org
SUMMARY:ECLIPSED: THE SUN\, THE MOON AND GLADYS ATKINSON SWEET
DESCRIPTION:Theatre NOVA\, Ann Arbor’s resident nonprofit professional theatre specializing in new plays\, is thrilled to present the World Premiere of “ECLIPSED: The Sun\, the Moon and Gladys Atkinson Sweet” by D.L. Patrick\, a play documenting the all-too-real 1925 case of an African American married couple and their friends charged with first-degree murder following the attack on the Sweet’s Detroit home by over 700 white neighbors.  \n“ECLIPSED” will run April 11 through May 11 at Theatre NOVA (410 W Huron St\, Ann Arbor). Performances are Fridays at 8pm\, Saturdays at 3pm and 8pm\, and Sundays at 2 p.m. General admission tickets are $30. Tickets may be purchased online at  www.TheatreNOVA.org or in person one hour before each performance.  Seating in the theater will begin 30 minutes before each performance. There is ample free parking and quick access to the city’s restaurants\, bars\, bakeries\, and coffee shops. New patrons can find Theatre NOVA across Huron Street from Ann Arbor’s YMCA through a parking lot entrance on the north side of the street.
URL:https://creativewashtenaw.org/event/eclipsed-the-sun-the-moon-and-gladys-atkinson-sweet/
LOCATION:MI
CATEGORIES:Performance Art,Theatre
END:VEVENT
BEGIN:VEVENT
DTSTART;TZID=America/Detroit:20250406T160000
DTEND;TZID=America/Detroit:20250406T170000
DTSTAMP:20260423T162858
CREATED:20250225T174911Z
LAST-MODIFIED:20250225T174911Z
UID:17753-1743955200-1743958800@creativewashtenaw.org
SUMMARY:FestiFools 2025: RevFOOLution!
DESCRIPTION:Make a crazy costume\, bring an old pan to bang on\, or just come as you are\, to help celebrate the annual FestiFools spectacle on Main Street in downtown Ann Arbor! This one-of-a kind public art tradition features bizarro\, street-sized “puppets” all created and animated by U-M students and community members. This not-2-B-missed one-hour only event starts at 4pm sharp! Let’s come together to celebrate the true FOOL in all of us\, and to revel in the Rev-FOOL-ution! \n\nWant to volunteer for FestiFools? Send us a message\, email marktuck@umich.edu\, or sign up here: signupgenius.com
URL:https://creativewashtenaw.org/event/festifools-2025-revfoolution/
LOCATION:MI
CATEGORIES:Public Art
ATTACH;FMTTYPE=image/png:https://creativewashtenaw.org/wp-content/uploads/2025/02/Calendar-Events-Featured-Images-Revfoolution.png
END:VEVENT
BEGIN:VEVENT
DTSTART;TZID=America/Detroit:20250404T193000
DTEND;TZID=America/Detroit:20250404T230000
DTSTAMP:20260423T162858
CREATED:20250225T174455Z
LAST-MODIFIED:20250225T174455Z
UID:17750-1743795000-1743807600@creativewashtenaw.org
SUMMARY:FoolMoon 2025: Rhythm & Fools
DESCRIPTION:This 15th annual magical outdoor nighttime event features a vast array of quirky and beautiful community-made illuminated sculptures\, a huge street party\, live music\, and more. All invited to make homemade light-up costumes & drum on pots and pans in celebration of “Rhythm & Fools\,” this year’s theme.\n \nLuminary makers and merrymakers are invited to assemble at one of 3 “Constellation Stations”: the U-M Art Museum front lawn\, the Kerrytown Farmers Market\, and the Slauson Middle School parking lot. Processionals step off promptly at 8pm dancing and winding through downtown\, arriving at Washington & Ashley for this popular outdoor celebration of creativity and Foolishness!!\n \nAll are invited to make their very own illuminated sculpture to bring to FoolMoon on their own or at Fool U! Free Luminary Making Workshops held at Hathaway’s Hideaway every Sunday in the month of March. Space is limited & pre-registration desired – sign-up here: https://www.signupgenius.com/…/10C0B4FADA823A0F8C43… !
URL:https://creativewashtenaw.org/event/foolmoon-2025-rhythm-fools/
LOCATION:MI
CATEGORIES:Festival,Workshop
ATTACH;FMTTYPE=image/png:https://creativewashtenaw.org/wp-content/uploads/2025/02/Calendar-Events-Featured-Images-FoolMoon.png
END:VEVENT
BEGIN:VEVENT
DTSTART;VALUE=DATE:20250401
DTEND;VALUE=DATE:20250501
DTSTAMP:20260423T162858
CREATED:20250312T165047Z
LAST-MODIFIED:20250312T165047Z
UID:17906-1743465600-1746057599@creativewashtenaw.org
SUMMARY:A Month of Musical Legends\, Rising Stars\, and Celebrated Anniversaries
DESCRIPTION:Join the University Musical Society as they close their 146th season with a series of unforgettable performances throughout the month of April that resonate with both history and innovation.\nFeatured Upcoming Events: \nThe legendary violinist Anne-Sophie Mutter accompanied by pianist Lambert Orkis \nThe young piano prodigy Yunchan Lim takes the stage for his UMS solo recital debut \nThe renowned Takács Quartet celebrates its 50th anniversary \nUMS Returns to the Ypsilanti Freighthouse for the fifth residency featuring a wide range of arts events for all \nFor more information on the University Musical Society and to explore future events\, visit UMS.org 
URL:https://creativewashtenaw.org/event/a-month-of-musical-legends-rising-stars-and-celebrated-anniversaries/
LOCATION:MI
CATEGORIES:Musical Performance
END:VEVENT
BEGIN:VEVENT
DTSTART;TZID=America/Detroit:20250330T200000
DTEND;TZID=America/Detroit:20250330T200000
DTSTAMP:20260423T162858
CREATED:20250207T141038Z
LAST-MODIFIED:20250207T141038Z
UID:17569-1743364800-1743364800@creativewashtenaw.org
SUMMARY:A2FF63: Awards 2
DESCRIPTION:Awards
URL:https://creativewashtenaw.org/event/a2ff63-awards-2/
LOCATION:Michigan Theater\, 603 E Liberty St\, Ann Arbor\, MI\, 48104\, United States
CATEGORIES:Festival,Film Screening
END:VEVENT
BEGIN:VEVENT
DTSTART;TZID=America/Detroit:20250330T180000
DTEND;TZID=America/Detroit:20250330T180000
DTSTAMP:20260423T162858
CREATED:20250207T141038Z
LAST-MODIFIED:20250207T141038Z
UID:17568-1743357600-1743357600@creativewashtenaw.org
SUMMARY:A2FF63: Awards 1
DESCRIPTION:Awards
URL:https://creativewashtenaw.org/event/a2ff63-awards-1/
LOCATION:Michigan Theater\, 603 E Liberty St\, Ann Arbor\, MI\, 48104\, United States
CATEGORIES:Festival,Film Screening
END:VEVENT
BEGIN:VEVENT
DTSTART;TZID=America/Detroit:20250330T143000
DTEND;TZID=America/Detroit:20250330T143000
DTSTAMP:20260423T162858
CREATED:20250207T141038Z
LAST-MODIFIED:20250207T141038Z
UID:17567-1743345000-1743345000@creativewashtenaw.org
SUMMARY:A2FF63: The Latest News from Deseret with Heartbeat
DESCRIPTION:Feature with Short
URL:https://creativewashtenaw.org/event/a2ff63-the-latest-news-from-deseret-with-heartbeat/
LOCATION:Michigan Theater\, 603 E Liberty St\, Ann Arbor\, MI\, 48104\, United States
CATEGORIES:Festival,Film Screening
END:VEVENT
BEGIN:VEVENT
DTSTART;TZID=America/Detroit:20250330T123000
DTEND;TZID=America/Detroit:20250330T123000
DTSTAMP:20260423T162858
CREATED:20250207T141000Z
LAST-MODIFIED:20250207T141000Z
UID:17566-1743337800-1743337800@creativewashtenaw.org
SUMMARY:A2FF63: Film Competition 14
DESCRIPTION:Films in Competition
URL:https://creativewashtenaw.org/event/a2ff63-film-competition-14/
LOCATION:Michigan Theater\, 603 E Liberty St\, Ann Arbor\, MI\, 48104\, United States
CATEGORIES:Festival,Film Screening
END:VEVENT
BEGIN:VEVENT
DTSTART;TZID=America/Detroit:20250329T213000
DTEND;TZID=America/Detroit:20250329T213000
DTSTAMP:20260423T162858
CREATED:20250207T141000Z
LAST-MODIFIED:20250207T141000Z
UID:17565-1743283800-1743283800@creativewashtenaw.org
SUMMARY:A2FF63: Film Competition 13
DESCRIPTION:Films in Competition
URL:https://creativewashtenaw.org/event/a2ff63-film-competition-13/
LOCATION:Michigan Theater\, 603 E Liberty St\, Ann Arbor\, MI\, 48104\, United States
CATEGORIES:Festival,Film Screening
END:VEVENT
BEGIN:VEVENT
DTSTART;TZID=America/Detroit:20250329T210000
DTEND;TZID=America/Detroit:20250329T210000
DTSTAMP:20260423T162858
CREATED:20250207T141000Z
LAST-MODIFIED:20250207T141000Z
UID:17564-1743282000-1743282000@creativewashtenaw.org
SUMMARY:A2FF63: ÁAoquic iez in Mexico! / Mexico will no longer exist! with mnemonic
DESCRIPTION:Feature with Short
URL:https://creativewashtenaw.org/event/a2ff63-aaoquic-iez-in-mexico-mexico-will-no-longer-exist-with-mnemonic/
LOCATION:Michigan Theater\, 603 E Liberty St\, Ann Arbor\, MI\, 48104\, United States
CATEGORIES:Festival,Film Screening
END:VEVENT
BEGIN:VEVENT
DTSTART;TZID=America/Detroit:20250329T193000
DTEND;TZID=America/Detroit:20250329T193000
DTSTAMP:20260423T162858
CREATED:20250207T141000Z
LAST-MODIFIED:20250207T141000Z
UID:17563-1743276600-1743276600@creativewashtenaw.org
SUMMARY:A2FF63: Film Competition 12
DESCRIPTION:Films in Competition
URL:https://creativewashtenaw.org/event/a2ff63-film-competition-12/
LOCATION:Michigan Theater\, 603 E Liberty St\, Ann Arbor\, MI\, 48104\, United States
CATEGORIES:Festival,Film Screening
END:VEVENT
BEGIN:VEVENT
DTSTART;TZID=America/Detroit:20250329T170000
DTEND;TZID=America/Detroit:20250329T170000
DTSTAMP:20260423T162858
CREATED:20250207T141000Z
LAST-MODIFIED:20250207T141000Z
UID:17562-1743267600-1743267600@creativewashtenaw.org
SUMMARY:A2FF63: AMONG THE PALMS THE BOMB or: Looking for reflections in the toxic field of plenty with Il burattino e la balena
DESCRIPTION:Feature
URL:https://creativewashtenaw.org/event/a2ff63-among-the-palms-the-bomb-or-looking-for-reflections-in-the-toxic-field-of-plenty-with-il-burattino-e-la-balena/
LOCATION:Michigan Theater\, 603 E Liberty St\, Ann Arbor\, MI\, 48104\, United States
CATEGORIES:Festival,Film Screening
END:VEVENT
BEGIN:VEVENT
DTSTART;TZID=America/Detroit:20250329T153000
DTEND;TZID=America/Detroit:20250329T153000
DTSTAMP:20260423T162858
CREATED:20250207T140759Z
LAST-MODIFIED:20250207T140759Z
UID:17561-1743262200-1743262200@creativewashtenaw.org
SUMMARY:A2FF63: Film Competition 11
DESCRIPTION:Films in Competition
URL:https://creativewashtenaw.org/event/a2ff63-film-competition-11/
LOCATION:Michigan Theater\, 603 E Liberty St\, Ann Arbor\, MI\, 48104\, United States
CATEGORIES:Festival,Film Screening
END:VEVENT
BEGIN:VEVENT
DTSTART;TZID=America/Detroit:20250329T150000
DTEND;TZID=America/Detroit:20250329T150000
DTSTAMP:20260423T162858
CREATED:20250207T140759Z
LAST-MODIFIED:20250207T140759Z
UID:17560-1743260400-1743260400@creativewashtenaw.org
SUMMARY:A2FF63: Film Competition 10
DESCRIPTION:Films in Competition
URL:https://creativewashtenaw.org/event/a2ff63-film-competition-10/
LOCATION:Michigan Theater\, 603 E Liberty St\, Ann Arbor\, MI\, 48104\, United States
CATEGORIES:Festival,Film Screening
END:VEVENT
BEGIN:VEVENT
DTSTART;TZID=America/Detroit:20250329T133000
DTEND;TZID=America/Detroit:20250329T133000
DTSTAMP:20260423T162858
CREATED:20250207T140759Z
LAST-MODIFIED:20250207T140759Z
UID:17559-1743255000-1743255000@creativewashtenaw.org
SUMMARY:A2FF63: Film Competition 9 - AAA
DESCRIPTION:Films in Competition
URL:https://creativewashtenaw.org/event/a2ff63-film-competition-9-aaa/
LOCATION:Michigan Theater\, 603 E Liberty St\, Ann Arbor\, MI\, 48104\, United States
CATEGORIES:Festival,Film Screening
END:VEVENT
BEGIN:VEVENT
DTSTART;TZID=America/Detroit:20250328T213000
DTEND;TZID=America/Detroit:20250328T213000
DTSTAMP:20260423T162858
CREATED:20250207T140759Z
LAST-MODIFIED:20250207T140759Z
UID:17558-1743197400-1743197400@creativewashtenaw.org
SUMMARY:A2FF63: Film Competition 8 - Animation
DESCRIPTION:Films in Competition
URL:https://creativewashtenaw.org/event/a2ff63-film-competition-8-animation/
LOCATION:Michigan Theater\, 603 E Liberty St\, Ann Arbor\, MI\, 48104\, United States
CATEGORIES:Festival,Film Screening
END:VEVENT
BEGIN:VEVENT
DTSTART;TZID=America/Detroit:20250328T210000
DTEND;TZID=America/Detroit:20250328T210000
DTSTAMP:20260423T162858
CREATED:20250207T140759Z
LAST-MODIFIED:20250207T140759Z
UID:17557-1743195600-1743195600@creativewashtenaw.org
SUMMARY:A2FF63: A Body To Live in with The Princess and the Peacock
DESCRIPTION:Feature with Short
URL:https://creativewashtenaw.org/event/a2ff63-a-body-to-live-in-with-the-princess-and-the-peacock/
LOCATION:Michigan Theater\, 603 E Liberty St\, Ann Arbor\, MI\, 48104\, United States
CATEGORIES:Festival,Film Screening
END:VEVENT
BEGIN:VEVENT
DTSTART;TZID=America/Detroit:20250328T193000
DTEND;TZID=America/Detroit:20250328T193000
DTSTAMP:20260423T162858
CREATED:20250207T140744Z
LAST-MODIFIED:20250207T140744Z
UID:17556-1743190200-1743190200@creativewashtenaw.org
SUMMARY:A2FF63: Film Competition 7
DESCRIPTION:Films in Competition
URL:https://creativewashtenaw.org/event/a2ff63-film-competition-7/
LOCATION:Michigan Theater\, 603 E Liberty St\, Ann Arbor\, MI\, 48104\, United States
CATEGORIES:Festival,Film Screening
END:VEVENT
BEGIN:VEVENT
DTSTART;TZID=America/Detroit:20250328T173000
DTEND;TZID=America/Detroit:20250328T173000
DTSTAMP:20260423T162858
CREATED:20250207T140744Z
LAST-MODIFIED:20250207T140744Z
UID:17555-1743183000-1743183000@creativewashtenaw.org
SUMMARY:A2FF63: Film Competition 6
DESCRIPTION:Films in Competition
URL:https://creativewashtenaw.org/event/a2ff63-film-competition-6/
LOCATION:Michigan Theater\, 603 E Liberty St\, Ann Arbor\, MI\, 48104\, United States
CATEGORIES:Festival,Film Screening
END:VEVENT
BEGIN:VEVENT
DTSTART;TZID=America/Detroit:20250328T170000
DTEND;TZID=America/Detroit:20250328T170000
DTSTAMP:20260423T162858
CREATED:20250207T140744Z
LAST-MODIFIED:20250207T140744Z
UID:17554-1743181200-1743181200@creativewashtenaw.org
SUMMARY:A2FF63: Republic
DESCRIPTION:Feature
URL:https://creativewashtenaw.org/event/a2ff63-republic/
LOCATION:Michigan Theater\, 603 E Liberty St\, Ann Arbor\, MI\, 48104\, United States
CATEGORIES:Festival,Film Screening
END:VEVENT
BEGIN:VEVENT
DTSTART;TZID=America/Detroit:20250327T213000
DTEND;TZID=America/Detroit:20250327T213000
DTSTAMP:20260423T162858
CREATED:20250207T140744Z
LAST-MODIFIED:20250207T140744Z
UID:17553-1743111000-1743111000@creativewashtenaw.org
SUMMARY:A2FF63: Film Competition - Out Night
DESCRIPTION:Films in Competition
URL:https://creativewashtenaw.org/event/a2ff63-film-competition-out-night/
LOCATION:Michigan Theater\, 603 E Liberty St\, Ann Arbor\, MI\, 48104\, United States
CATEGORIES:Festival,Film Screening
END:VEVENT
BEGIN:VEVENT
DTSTART;TZID=America/Detroit:20250327T193000
DTEND;TZID=America/Detroit:20250327T193000
DTSTAMP:20260423T162858
CREATED:20250207T140744Z
LAST-MODIFIED:20250207T140744Z
UID:17552-1743103800-1743103800@creativewashtenaw.org
SUMMARY:A2FF63: Film Competition 4
DESCRIPTION:Films in Competition
URL:https://creativewashtenaw.org/event/a2ff63-film-competition-4/
LOCATION:Michigan Theater\, 603 E Liberty St\, Ann Arbor\, MI\, 48104\, United States
CATEGORIES:Festival,Film Screening
END:VEVENT
BEGIN:VEVENT
DTSTART;TZID=America/Detroit:20250327T190000
DTEND;TZID=America/Detroit:20250327T190000
DTSTAMP:20260423T162858
CREATED:20250207T140741Z
LAST-MODIFIED:20250207T140741Z
UID:17551-1743102000-1743102000@creativewashtenaw.org
SUMMARY:A2FF63: Roohrangi with Mr. Bound & Gagged
DESCRIPTION:Films in Competition
URL:https://creativewashtenaw.org/event/a2ff63-roohrangi-with-mr-bound-gagged/
LOCATION:Michigan Theater\, 603 E Liberty St\, Ann Arbor\, MI\, 48104\, United States
CATEGORIES:Festival,Film Screening
END:VEVENT
BEGIN:VEVENT
DTSTART;TZID=America/Detroit:20250326T210000
DTEND;TZID=America/Detroit:20250326T210000
DTSTAMP:20260423T162858
CREATED:20250207T140741Z
LAST-MODIFIED:20250207T140741Z
UID:17550-1743022800-1743022800@creativewashtenaw.org
SUMMARY:A2FF63: Billy with Shadow of the Butterflies
DESCRIPTION:Feature with Short
URL:https://creativewashtenaw.org/event/a2ff63-billy-with-shadow-of-the-butterflies/
LOCATION:Michigan Theater\, 603 E Liberty St\, Ann Arbor\, MI\, 48104\, United States
CATEGORIES:Festival,Film Screening
END:VEVENT
BEGIN:VEVENT
DTSTART;TZID=America/Detroit:20250326T190000
DTEND;TZID=America/Detroit:20250326T190000
DTSTAMP:20260423T162858
CREATED:20250207T140741Z
LAST-MODIFIED:20250207T140741Z
UID:17549-1743015600-1743015600@creativewashtenaw.org
SUMMARY:A2FF63: Strange Abandoned Derangedwith Rain\, Rain\, Go Away
DESCRIPTION:Feature with Short
URL:https://creativewashtenaw.org/event/a2ff63-strange-abandoned-derangedwith-rain-rain-go-away/
LOCATION:Michigan Theater\, 603 E Liberty St\, Ann Arbor\, MI\, 48104\, United States
CATEGORIES:Festival,Film Screening
END:VEVENT
BEGIN:VEVENT
DTSTART;TZID=America/Detroit:20250326T173000
DTEND;TZID=America/Detroit:20250326T173000
DTSTAMP:20260423T162858
CREATED:20250207T140740Z
LAST-MODIFIED:20250207T140740Z
UID:17548-1743010200-1743010200@creativewashtenaw.org
SUMMARY:A2FF63: Film Competition 2
DESCRIPTION:Films in Competition
URL:https://creativewashtenaw.org/event/a2ff63-film-competition-2/
LOCATION:Michigan Theater\, 603 E Liberty St\, Ann Arbor\, MI\, 48104\, United States
CATEGORIES:Festival,Film Screening
END:VEVENT
BEGIN:VEVENT
DTSTART;TZID=America/Detroit:20250326T163000
DTEND;TZID=America/Detroit:20250326T180000
DTSTAMP:20260423T162858
CREATED:20250211T171508Z
LAST-MODIFIED:20250211T171508Z
UID:17636-1743006600-1743012000@creativewashtenaw.org
SUMMARY:CW Happy Hour
DESCRIPTION:Join us for mingling and light fare at our monthly Creative Washtenaw Happy Hour!\nWhether you’re an active member or thinking about joining Creative Washtenaw\, we’d love to connect with you!\nCreative Washtenaw Happy Hour is held on the last Wednesday of every month from 4:30 – 6:00 pm at varying locations throughout Washtenaw County.\nPlease RSVP at least 24 hours prior to the event.
URL:https://creativewashtenaw.org/event/cw-happy-hour-2/
LOCATION:RAPPOURT\, 2721 Plymouth Rd\, Ann Arbor\, 48105\, United States
CATEGORIES:CW Happy Hour,Happy Hour
END:VEVENT
END:VCALENDAR